BEGIN:VCALENDAR
VERSION:2.0
PRODID:-//Library Market//iCal Export//EN
BEGIN:VEVENT
SUMMARY:Medicare Basics
UID:53082
DTSTAMP:20260423T080100Z
DTSTART:20260715T230000Z
DTEND:20260716T010000Z
LOCATION:Town and Country Public Library District, 320 E. North St., Elbur
 n, IL 60119, United States
ROOM: The Mary Lynn Alms Educational Center (Meeting Room)
DESCRIPTION: This program will be offered in-person only. Anyone turnin
 g 65 or approaching retirement is welcome to attend this informative sem
 inar on Medicare.  
URL:https://www.tcpld.org/event/medicare-basics-53082
END:VEVENT
END:VCALENDAR
