BEGIN:VCALENDAR
VERSION:2.0
PRODID:-//Library Market//iCal Export//EN
BEGIN:VEVENT
SUMMARY:Senior Social Hour: Friday Morning Movie
UID:52987
DTSTAMP:20260423T144600Z
DTSTART:20260710T150000Z
DTEND:20260710T171500Z
LOCATION:Town and Country Public Library District, 320 E. North St., Elbur
 n, IL 60119, United States
ROOM: The Mary Lynn Alms Educational Center (Meeting Room)
DESCRIPTION:Join us for a showing of Hamnet, the movie. Bring pillows and/
 or blankets for comfort. The Senior Social Hour is designed as a gatherin
 g space for seniors who enjoy socializing while completing puzzles, playin
 g card games, engaging in movement, listening to music, or working on craf
 ts. Occasionally we will have resources and speakers who will focus on age
 -related issues. The program is open to all abilities. Light refreshments 
 will be provided. The mission of the program is to allow attendees to con
 nect, socialize and build networks.The program is free and open to all. R
 egistration is required.For more information and to register, contact Jam
 ie Gehin at jgehin@tcpld.org.#SUMMER9
URL:https://www.tcpld.org/event/senior-social-hour-friday-morning-movie-52
 987
END:VEVENT
END:VCALENDAR
