BEGIN:VCALENDAR
VERSION:2.0
PRODID:-//Library Market//iCal Export//EN
BEGIN:VEVENT
SUMMARY:Tween/Teen: Graphic Novel Book Club
UID:52761
DTSTAMP:20260422T213000Z
DTSTART:20260722T193000Z
DTEND:20260722T203000Z
LOCATION:Town and Country Public Library District, 320 E. North St., Elbur
 n, IL 60119, United States
ROOM: Library-wide
DESCRIPTION:Do you enjoy reading graphic novels? Want to meet up with othe
 r kids that share your interest? Participants will need to all read the sa
 me GN before the program and be ready to chat about it and enjoy preparing
  a simple snack.We will be reading: Super Boba Cafe By: Nidhi ChananiGN bo
 oks will be available for checkout at the library before the event.#SUMMER
 15
URL:https://www.tcpld.org/event/tweenteen-graphic-novel-book-club-52761
END:VEVENT
END:VCALENDAR
